BEGIN:VCALENDAR
VERSION:2.0
PRODID:-//FPS - ECPv6.15.20//NONSGML v1.0//EN
CALSCALE:GREGORIAN
METHOD:PUBLISH
X-WR-CALNAME:FPS
X-ORIGINAL-URL:https://fps.edu.om
X-WR-CALDESC:Events for FPS
REFRESH-INTERVAL;VALUE=DURATION:PT1H
X-Robots-Tag:noindex
X-PUBLISHED-TTL:PT1H
BEGIN:VTIMEZONE
TZID:UTC
BEGIN:STANDARD
TZOFFSETFROM:+0000
TZOFFSETTO:+0000
TZNAME:UTC
DTSTART:20170101T000000
END:STANDARD
END:VTIMEZONE
BEGIN:VEVENT
DTSTART;TZID=UTC:20200311T073000
DTEND;TZID=UTC:20200312T133000
DTSTAMP:20260424T123834
CREATED:20191008T040306Z
LAST-MODIFIED:20191008T040324Z
UID:4997-1583911800-1584019800@fps.edu.om
SUMMARY:Art Competition
DESCRIPTION:
URL:https://fps.edu.om/event/art-competition-2/
CATEGORIES:Activities,School
END:VEVENT
BEGIN:VEVENT
DTSTART;TZID=UTC:20200305T073000
DTEND;TZID=UTC:20200305T133000
DTSTAMP:20260424T123834
CREATED:20191008T040151Z
LAST-MODIFIED:20191008T040214Z
UID:4993-1583393400-1583415000@fps.edu.om
SUMMARY:Science Fair
DESCRIPTION:
URL:https://fps.edu.om/event/science-fair-2/
CATEGORIES:Activities,School
END:VEVENT
BEGIN:VEVENT
DTSTART;TZID=UTC:20200119T080000
DTEND;TZID=UTC:20200119T170000
DTSTAMP:20260424T123834
CREATED:20191008T035512Z
LAST-MODIFIED:20191008T035614Z
UID:4975-1579420800-1579453200@fps.edu.om
SUMMARY:Start of Second Semester for teachers
DESCRIPTION:
URL:https://fps.edu.om/event/start-of-second-semester/
CATEGORIES:Activities,School
END:VEVENT
BEGIN:VEVENT
DTSTART;TZID=UTC:20191226T073000
DTEND;TZID=UTC:20191226T133000
DTSTAMP:20260424T123834
CREATED:20191008T034726Z
LAST-MODIFIED:20191008T034810Z
UID:4960-1577345400-1577367000@fps.edu.om
SUMMARY:Super Suq (English Staff)
DESCRIPTION:
URL:https://fps.edu.om/event/super-suq-english-staff/
CATEGORIES:Activities,School
END:VEVENT
BEGIN:VEVENT
DTSTART;TZID=UTC:20191218T080000
DTEND;TZID=UTC:20191218T170000
DTSTAMP:20260424T123834
CREATED:20191008T034329Z
LAST-MODIFIED:20191008T034329Z
UID:4954-1576656000-1576688400@fps.edu.om
SUMMARY:Arabic World Day
DESCRIPTION:
URL:https://fps.edu.om/event/arabic-world-day/
CATEGORIES:Activities
END:VEVENT
BEGIN:VEVENT
DTSTART;TZID=UTC:20191205T073000
DTEND;TZID=UTC:20191205T133000
DTSTAMP:20260424T123834
CREATED:20191008T033455Z
LAST-MODIFIED:20191008T033812Z
UID:4950-1575531000-1575552600@fps.edu.om
SUMMARY:Math Festival
DESCRIPTION:
URL:https://fps.edu.om/event/math-festival/
CATEGORIES:Activities
END:VEVENT
BEGIN:VEVENT
DTSTART;TZID=UTC:20191121T073000
DTEND;TZID=UTC:20191121T133000
DTSTAMP:20260424T123834
CREATED:20191008T033121Z
LAST-MODIFIED:20191008T033242Z
UID:4944-1574321400-1574343000@fps.edu.om
SUMMARY:Natioanal Day Celebration
DESCRIPTION:
URL:https://fps.edu.om/event/natioanal-day-celebration/
CATEGORIES:Activities
END:VEVENT
BEGIN:VEVENT
DTSTART;TZID=UTC:20191116T073000
DTEND;TZID=UTC:20191116T133000
DTSTAMP:20260424T123834
CREATED:20191008T032959Z
LAST-MODIFIED:20191008T033346Z
UID:4941-1573889400-1573911000@fps.edu.om
SUMMARY:Show and Tell Competition
DESCRIPTION:
URL:https://fps.edu.om/event/show-and-tell-competition-2/
CATEGORIES:Activities
END:VEVENT
BEGIN:VEVENT
DTSTART;TZID=UTC:20190605T080000
DTEND;TZID=UTC:20190605T170000
DTSTAMP:20260424T123834
CREATED:20181118T044332Z
LAST-MODIFIED:20190116T123108Z
UID:1452-1559721600-1559754000@fps.edu.om
SUMMARY:Eid ALFiter
DESCRIPTION:
URL:https://fps.edu.om/event/eid-alfiter/
CATEGORIES:Activities
END:VEVENT
BEGIN:VEVENT
DTSTART;TZID=UTC:20190314T080000
DTEND;TZID=UTC:20190314T170000
DTSTAMP:20260424T123834
CREATED:20181118T043400Z
LAST-MODIFIED:20190116T125213Z
UID:1439-1552550400-1552582800@fps.edu.om
SUMMARY:Science Fair
DESCRIPTION:
URL:https://fps.edu.om/event/science-fair/
CATEGORIES:Activities
END:VEVENT
BEGIN:VEVENT
DTSTART;TZID=UTC:20190305T080000
DTEND;TZID=UTC:20190306T170000
DTSTAMP:20260424T123834
CREATED:20181118T043254Z
LAST-MODIFIED:20190116T125139Z
UID:1437-1551772800-1551891600@fps.edu.om
SUMMARY:Art Competition
DESCRIPTION:
URL:https://fps.edu.om/event/art-competition/
CATEGORIES:Activities
END:VEVENT
BEGIN:VEVENT
DTSTART;TZID=UTC:20181216T080000
DTEND;TZID=UTC:20181219T170000
DTSTAMP:20260424T123834
CREATED:20181118T040907Z
LAST-MODIFIED:20190116T125445Z
UID:1415-1544947200-1545238800@fps.edu.om
SUMMARY:Quran Competition
DESCRIPTION:
URL:https://fps.edu.om/event/quran-competition/
CATEGORIES:Activities
END:VEVENT
BEGIN:VEVENT
DTSTART;TZID=UTC:20181122T080000
DTEND;TZID=UTC:20181122T170000
DTSTAMP:20260424T123834
CREATED:20181118T034517Z
LAST-MODIFIED:20190116T125456Z
UID:1406-1542873600-1542906000@fps.edu.om
SUMMARY:National Day Celebration
DESCRIPTION:
URL:https://fps.edu.om/event/national-day-celebration/
CATEGORIES:Activities
END:VEVENT
BEGIN:VEVENT
DTSTART;TZID=UTC:20181120T080000
DTEND;TZID=UTC:20181120T170000
DTSTAMP:20260424T123834
CREATED:20181118T034557Z
LAST-MODIFIED:20190116T125504Z
UID:1408-1542700800-1542733200@fps.edu.om
SUMMARY:Almawlid ALNabawi
DESCRIPTION:
URL:https://fps.edu.om/event/almawlid-alnabawi/
CATEGORIES:Activities
END:VEVENT
END:VCALENDAR